BEGIN:VCALENDAR
VERSION:2.0
PRODID:-//hacksw/handcal//NONSGML v1.0//EN
CALSCALE:GREGORIAN
BEGIN:VEVENT
DTEND:20050423T230000Z
UID:69ed8fd02e2e1
DTSTAMP:20260426T050848Z
LOCATION:0 Schaftlach
DESCRIPTION:
URL;VALUE=URI:
SUMMARY:Miesbacher Lkrs-Waldlauf-MSCH - 10. lao Frühjahrswaldlauf
DTSTART:20050423T230000Z
END:VEVENT
END:VCALENDAR
An internal server error occurred.