BEGIN:VCALENDAR
VERSION:2.0
PRODID:-//hacksw/handcal//NONSGML v1.0//EN
CALSCALE:GREGORIAN
BEGIN:VEVENT
DTEND:20050506T230000Z
UID:69ed8fcd42b2d
DTSTAMP:20260426T050845Z
LOCATION:0 Bergareute
DESCRIPTION:
URL;VALUE=URI:
SUMMARY:Brauerei Zollerhof Halbmarathon (vermessen/bestenlistenfähig)
DTSTART:20050506T230000Z
END:VEVENT
END:VCALENDAR
An internal server error occurred.