BEGIN:VCALENDAR
VERSION:2.0
PRODID:-//hacksw/handcal//NONSGML v1.0//EN
CALSCALE:GREGORIAN
BEGIN:VEVENT
DTEND:20050910T230000Z
UID:69ed664d744b8
DTSTAMP:20260426T021141Z
LOCATION:0 Rannungen
DESCRIPTION:
URL;VALUE=URI:
SUMMARY:Wald- und Naturlauf Rund um Rannungen
DTSTART:20050910T230000Z
END:VEVENT
END:VCALENDAR
An internal server error occurred.