BEGIN:VCALENDAR
VERSION:2.0
PRODID:-//hacksw/handcal//NONSGML v1.0//EN
CALSCALE:GREGORIAN
BEGIN:VEVENT
DTEND:20050924T230000Z
UID:69eb7bd3dac1e
DTSTAMP:20260424T151859Z
LOCATION:0 Bischofswerda
DESCRIPTION:
URL;VALUE=URI:
SUMMARY:Lauf Rund um den Butterberg/11. Lauf Sachsen-Cup 2004
DTSTART:20050924T230000Z
END:VEVENT
END:VCALENDAR
An internal server error occurred.