BEGIN:VCALENDAR
VERSION:2.0
PRODID:-//hacksw/handcal//NONSGML v1.0//EN
CALSCALE:GREGORIAN
BEGIN:VEVENT
DTEND:20050402T230000Z
UID:69ed8fc96d3f0
DTSTAMP:20260426T050841Z
LOCATION:0 Freistett
DESCRIPTION:
URL;VALUE=URI:
SUMMARY:23. Freistetter Volkslauf\, 2. Freistetter Halbmarathon u. Walking 8km
DTSTART:20050402T230000Z
END:VEVENT
END:VCALENDAR
An internal server error occurred.