BEGIN:VCALENDAR
VERSION:2.0
PRODID:-//hacksw/handcal//NONSGML v1.0//EN
CALSCALE:GREGORIAN
BEGIN:VEVENT
DTEND:20050609T230000Z
UID:69ebed888d0e0
DTSTAMP:20260424T232408Z
LOCATION:0 Ettlingen
DESCRIPTION:
URL;VALUE=URI:
SUMMARY:3. Ettlinger Altstadtlauf der Volksbank Ettlingen
DTSTART:20050609T230000Z
END:VEVENT
END:VCALENDAR
An internal server error occurred.