BEGIN:VCALENDAR
VERSION:2.0
PRODID:-//hacksw/handcal//NONSGML v1.0//EN
CALSCALE:GREGORIAN
BEGIN:VEVENT
DTEND:20050701T230000Z
UID:69ec0c43398e3
DTSTAMP:20260425T013515Z
LOCATION:0 Mosbach
DESCRIPTION:
URL;VALUE=URI:
SUMMARY:6. Mosbacher Stadtlauf des LAZ Mosbach/Elztal
DTSTART:20050701T230000Z
END:VEVENT
END:VCALENDAR
An internal server error occurred.