BEGIN:VCALENDAR
VERSION:2.0
PRODID:-//hacksw/handcal//NONSGML v1.0//EN
CALSCALE:GREGORIAN
BEGIN:VEVENT
DTEND:20050909T230000Z
UID:69ed870b16a2f
DTSTAMP:20260426T043123Z
LOCATION:0 Badenweiler
DESCRIPTION:
URL;VALUE=URI:
SUMMARY:30. Int. Herbst-Volkslauf\, 4. Wertungslauf des Markgräfler Bad-Quelle-Cup
DTSTART:20050909T230000Z
END:VEVENT
END:VCALENDAR
An internal server error occurred.