BEGIN:VCALENDAR
VERSION:2.0
PRODID:-//hacksw/handcal//NONSGML v1.0//EN
CALSCALE:GREGORIAN
BEGIN:VEVENT
DTEND:20050515T230000Z
UID:69ebe857cab9e
DTSTAMP:20260424T230159Z
LOCATION:0 Plattling
DESCRIPTION:
URL;VALUE=URI:
SUMMARY:Isarrun - Ultrastreckenlauf 328 km in 5 Tagen
DTSTART:20050515T230000Z
END:VEVENT
END:VCALENDAR
An internal server error occurred.