BEGIN:VCALENDAR
VERSION:2.0
PRODID:-//hacksw/handcal//NONSGML v1.0//EN
CALSCALE:GREGORIAN
BEGIN:VEVENT
DTEND:20051002T230000Z
UID:69ed526e837a4
DTSTAMP:20260426T004654Z
LOCATION:0 Auerbach
DESCRIPTION:
URL;VALUE=URI:
SUMMARY:BezMSCH Berglauf Mittel-u.Nordschwaben - 9. Steineberglauf
DTSTART:20051002T230000Z
END:VEVENT
END:VCALENDAR
An internal server error occurred.