BEGIN:VCALENDAR
VERSION:2.0
PRODID:-//hacksw/handcal//NONSGML v1.0//EN
CALSCALE:GREGORIAN
BEGIN:VEVENT
DTEND:20051028T230000Z
UID:69ed6bcc477c3
DTSTAMP:20260426T023508Z
LOCATION:0 Ludwigschorgast
DESCRIPTION:
URL;VALUE=URI:
SUMMARY:19. Frankenwald-Lauf um den Preis der Kulmbacher Brauerei
DTSTART:20051028T230000Z
END:VEVENT
END:VCALENDAR
An internal server error occurred.