BEGIN:VCALENDAR
VERSION:2.0
PRODID:-//hacksw/handcal//NONSGML v1.0//EN
CALSCALE:GREGORIAN
BEGIN:VEVENT
DTEND:20050910T133000Z
UID:69ed3db675c4b
DTSTAMP:20260425T231830Z
LOCATION:7201 Neudörfl
DESCRIPTION:jeder Teilnehmer erhält ein Geschenk\; 
inkl. freiem Eintritt beim Neudörfler Dorffest am 10. und 11. 9. 2005

URL;VALUE=URI:
SUMMARY:3. Bglf. Feuerwehrlauf u. Neudörfler Ortslauf
DTSTART:20050909T230000Z
END:VEVENT
END:VCALENDAR
An internal server error occurred.