BEGIN:VCALENDAR
VERSION:2.0
PRODID:-//hacksw/handcal//NONSGML v1.0//EN
CALSCALE:GREGORIAN
BEGIN:VEVENT
DTEND:20051203T230000Z
UID:69ed9398898fd
DTSTAMP:20260426T052456Z
LOCATION:0 Arnstorf/Stelzenöd
DESCRIPTION:
URL;VALUE=URI:
SUMMARY:28. landesoff. Nikolaus-Waldlauf mit Grenzland Laufcup-Wertung
DTSTART:20051203T230000Z
END:VEVENT
END:VCALENDAR
An internal server error occurred.