BEGIN:VCALENDAR
VERSION:2.0
PRODID:-//hacksw/handcal//NONSGML v1.0//EN
CALSCALE:GREGORIAN
BEGIN:VEVENT
DTEND:20050903T230000Z
UID:69ebf5f4c1982
DTSTAMP:20260425T000004Z
LOCATION:0 Bremen
DESCRIPTION:
URL;VALUE=URI:
SUMMARY:8. Halbmarathon\, 10 km Volkslauf\, LG Bremen Nord
DTSTART:20050903T230000Z
END:VEVENT
END:VCALENDAR
An internal server error occurred.