BEGIN:VCALENDAR
VERSION:2.0
PRODID:-//hacksw/handcal//NONSGML v1.0//EN
CALSCALE:GREGORIAN
BEGIN:VEVENT
DTEND:20051022T230000Z
UID:69ed22d688ed3
DTSTAMP:20260425T212350Z
LOCATION:0 Hamburg
DESCRIPTION:
URL;VALUE=URI:
SUMMARY:14. Bramfelder Jedermann-/frau-Lauf rund um den Bramfelder See
DTSTART:20051022T230000Z
END:VEVENT
END:VCALENDAR
An internal server error occurred.