BEGIN:VCALENDAR
VERSION:2.0
PRODID:-//hacksw/handcal//NONSGML v1.0//EN
CALSCALE:GREGORIAN
BEGIN:VEVENT
DTEND:20050115T230000Z
UID:69ed520b179dd
DTSTAMP:20260426T004515Z
LOCATION:0 Mörfelden
DESCRIPTION:
URL;VALUE=URI:
SUMMARY:28. Marathonstaffellauf im Rahmen der 28. WL-Serie /Volkslauf
DTSTART:20050115T230000Z
END:VEVENT
END:VCALENDAR
An internal server error occurred.