BEGIN:VCALENDAR
VERSION:2.0
PRODID:-//hacksw/handcal//NONSGML v1.0//EN
CALSCALE:GREGORIAN
BEGIN:VEVENT
DTEND:20061230T130000Z
UID:69e59f95d8f1c
DTSTAMP:20260420T043757Z
LOCATION:2492 Zillingdorf
DESCRIPTION:
URL;VALUE=URI:
SUMMARY:19. Zillingdorfer Silvesterlauf 
DTSTART:20061229T230000Z
END:VEVENT
END:VCALENDAR
An internal server error occurred.