BEGIN:VCALENDAR
VERSION:2.0
PRODID:-//hacksw/handcal//NONSGML v1.0//EN
CALSCALE:GREGORIAN
BEGIN:VEVENT
DTEND:20050326T090000Z
UID:69ec1586235dd
DTSTAMP:20260425T021446Z
LOCATION:1220 Wien
DESCRIPTION:MTB Cross Country Kriterium
URL;VALUE=URI:
SUMMARY:Duke-Episode1  of Lake Hirschstetten 
DTSTART:20050325T230000Z
END:VEVENT
END:VCALENDAR
An internal server error occurred.