BEGIN:VCALENDAR
VERSION:2.0
PRODID:-//hacksw/handcal//NONSGML v1.0//EN
CALSCALE:GREGORIAN
BEGIN:VEVENT
DTEND:20050924T130000Z
UID:69ed6657bfbab
DTSTAMP:20260426T021151Z
LOCATION:4563 Micheldorf
DESCRIPTION:
URL;VALUE=URI:
SUMMARY:17. Int. Raiffeisen Sport Rankl Strassenlauf Micheldorf 
DTSTART:20050923T230000Z
END:VEVENT
END:VCALENDAR
An internal server error occurred.