BEGIN:VCALENDAR
VERSION:2.0
PRODID:-//hacksw/handcal//NONSGML v1.0//EN
CALSCALE:GREGORIAN
BEGIN:VEVENT
DTEND:20050402T090000Z
UID:69ece2c908c6b
DTSTAMP:20260425T165033Z
LOCATION:3100 St. Pölten
DESCRIPTION:mit Nordic Walking-Wertung
URL;VALUE=URI:
SUMMARY:6-Stunden-Ultra-Lauf u. 6-Stunden-Nordic Walking
DTSTART:20050401T230000Z
END:VEVENT
END:VCALENDAR
An internal server error occurred.