BEGIN:VCALENDAR
VERSION:2.0
PRODID:-//hacksw/handcal//NONSGML v1.0//EN
CALSCALE:GREGORIAN
BEGIN:VEVENT
DTEND:20050821T080000Z
UID:69eca7b6ec6a2
DTSTAMP:20260425T123830Z
LOCATION:6313 Wildschönau-Auffach
DESCRIPTION:Mit gratis NW-Trainer\, Verleihstand\, anschl. tolles Rahmenprogramm
URL;VALUE=URI:
SUMMARY:2. Nordic-Fitness-Marsch in der Wildschönau
DTSTART:20050820T230000Z
END:VEVENT
END:VCALENDAR
An internal server error occurred.