BEGIN:VCALENDAR
VERSION:2.0
PRODID:-//hacksw/handcal//NONSGML v1.0//EN
CALSCALE:GREGORIAN
BEGIN:VEVENT
DTEND:20050427T090000Z
UID:69eb7bcdc9c0e
DTSTAMP:20260424T151853Z
LOCATION:7000 Donnerskirchen 
DESCRIPTION:Spiel\,Sport- u. Tanzfest\, Sonnwaldbad-Party
URL;VALUE=URI:
SUMMARY:5. Burgenländisches Spiel- u. Sportfest
DTSTART:20050426T230000Z
END:VEVENT
END:VCALENDAR
An internal server error occurred.