BEGIN:VCALENDAR
VERSION:2.0
PRODID:-//hacksw/handcal//NONSGML v1.0//EN
CALSCALE:GREGORIAN
BEGIN:VEVENT
DTEND:20050806T163000Z
UID:69ebdf56dd42c
DTSTAMP:20260424T222334Z
LOCATION:9063 Maria Saal
DESCRIPTION:Berglauf - Kärntner Berglaufcup
URL;VALUE=URI:
SUMMARY:8. ASV Maria Saal - Volkslauf auf den Ulrichsberg
DTSTART:20050805T230000Z
END:VEVENT
END:VCALENDAR
An internal server error occurred.