BEGIN:VCALENDAR
VERSION:2.0
PRODID:-//hacksw/handcal//NONSGML v1.0//EN
CALSCALE:GREGORIAN
BEGIN:VEVENT
DTEND:20040815T080000Z
UID:69ed57d199878
DTSTAMP:20260426T010953Z
LOCATION:6313 Wildschönau-Auffach
DESCRIPTION:Mit gratis NW-Trainer\, Verleihstand\, anschl. tolles Rahmenprogramm
URL;VALUE=URI:
SUMMARY:1. Nordic-Fitness-Marsch in der Wildschönau
DTSTART:20040814T230000Z
END:VEVENT
END:VCALENDAR
An internal server error occurred.