BEGIN:VCALENDAR
VERSION:2.0
PRODID:-//hacksw/handcal//NONSGML v1.0//EN
CALSCALE:GREGORIAN
BEGIN:VEVENT
DTEND:20040626T083000Z
UID:69e9d0fde2dd0
DTSTAMP:20260423T085749Z
LOCATION:3240 Mank
DESCRIPTION:Kinder-Marathon-Staffellauf
jeweils 5 Kinder oder Jugendliche
URL;VALUE=URI:
SUMMARY:Running-Festival Mank Kinder-Marathon-Staffellauf
DTSTART:20040625T230000Z
END:VEVENT
END:VCALENDAR
An internal server error occurred.