BEGIN:VCALENDAR
VERSION:2.0
PRODID:-//hacksw/handcal//NONSGML v1.0//EN
CALSCALE:GREGORIAN
BEGIN:VEVENT
DTEND:20040523T090000Z
UID:69ed6bc505069
DTSTAMP:20260426T023501Z
LOCATION:7071 Rust am Neusiedler See
DESCRIPTION:Weltmeisterschaft historischer Fahrräder\, Finalläufe ab 14.00
auch hier gilt: Jeder kann teilnehmen\, der ein altes od. uraltes Rad besitzt (z.B. ein Waffenrad)

URL;VALUE=URI:
SUMMARY:Hochrad WM 2004 Sprint WM Grand Prix Roland Königshofer
DTSTART:20040522T230000Z
END:VEVENT
END:VCALENDAR
An internal server error occurred.