BEGIN:VCALENDAR
VERSION:2.0
PRODID:-//hacksw/handcal//NONSGML v1.0//EN
CALSCALE:GREGORIAN
BEGIN:VEVENT
DTEND:20040619T140000Z
UID:69ec1585ae630
DTSTAMP:20260425T021445Z
LOCATION:6322 Kirchbichl
DESCRIPTION:Zugleich österreichische Meisterschaft der MASTERS Kurzdistanz.
URL;VALUE=URI:
SUMMARY:19. Int. Grenzlandtriathlon und 14. Sprinttriathlon Kirchbichl
DTSTART:20040618T230000Z
END:VEVENT
END:VCALENDAR
An internal server error occurred.