BEGIN:VCALENDAR
VERSION:2.0
PRODID:-//hacksw/handcal//NONSGML v1.0//EN
CALSCALE:GREGORIAN
BEGIN:VEVENT
DTEND:20041009T120000Z
UID:69eafa7aabe09
DTSTAMP:20260424T060706Z
LOCATION:3860 Heidenreichstein
DESCRIPTION:
URL;VALUE=URI:
SUMMARY:5. Heidenreichsteiner Naturparklauf - ABGESAGT -
DTSTART:20041008T230000Z
END:VEVENT
END:VCALENDAR
An internal server error occurred.