BEGIN:VCALENDAR
VERSION:2.0
PRODID:-//hacksw/handcal//NONSGML v1.0//EN
CALSCALE:GREGORIAN
BEGIN:VEVENT
DTEND:20040925T130000Z
UID:69ed6bc1f0170
DTSTAMP:20260426T023457Z
LOCATION:4563 Micheldorf
DESCRIPTION:
URL;VALUE=URI:
SUMMARY:16. Int. Raiffeisen Sport Rankl Strassenlauf Micheldorf 
DTSTART:20040924T230000Z
END:VEVENT
END:VCALENDAR
An internal server error occurred.