BEGIN:VCALENDAR
VERSION:2.0
PRODID:-//hacksw/handcal//NONSGML v1.0//EN
CALSCALE:GREGORIAN
BEGIN:VEVENT
DTEND:20040807T163000Z
UID:69eae97f20992
DTSTAMP:20260424T045439Z
LOCATION:9063 Maria Saal
DESCRIPTION:Höhendifferenz: 600 m
URL;VALUE=URI:
SUMMARY:7. ASV Maria Saal - Volkslauf auf den Ulrichsberg
DTSTART:20040806T230000Z
END:VEVENT
END:VCALENDAR
An internal server error occurred.