BEGIN:VCALENDAR
VERSION:2.0
PRODID:-//hacksw/handcal//NONSGML v1.0//EN
CALSCALE:GREGORIAN
BEGIN:VEVENT
DTEND:20040626T150000Z
UID:69eae97b15da5
DTSTAMP:20260424T045435Z
LOCATION:9020 Klagenfurt
DESCRIPTION:Neue location im Europapark. tolles Rahmenprogramm mit Aerobic und Nordic-walking Workshops\, Wellness-Meile\, Live-Musik und Erlebnisgastronomie 
URL;VALUE=URI:
SUMMARY:3. dm Frauenlauf Klagenfurt
DTSTART:20040625T230000Z
END:VEVENT
END:VCALENDAR
An internal server error occurred.