BEGIN:VCALENDAR
VERSION:2.0
PRODID:-//hacksw/handcal//NONSGML v1.0//EN
CALSCALE:GREGORIAN
BEGIN:VEVENT
DTEND:20040428T090000Z
UID:69ea98d753000
DTSTAMP:20260423T231031Z
LOCATION:7000 Eisenstadt
DESCRIPTION:Spiel\,Sport- u. Tanzfest\, Sonnwaldbad-Party
URL;VALUE=URI:
SUMMARY:4. Burgenländisches Spiel- u. Sportfest
DTSTART:20040427T230000Z
END:VEVENT
END:VCALENDAR
An internal server error occurred.