BEGIN:VCALENDAR
VERSION:2.0
PRODID:-//hacksw/handcal//NONSGML v1.0//EN
CALSCALE:GREGORIAN
BEGIN:VEVENT
DTEND:20050318T230000Z
UID:69ed8fcc84b94
DTSTAMP:20260426T050844Z
LOCATION:0 Petersberg-Marbach
DESCRIPTION:
URL;VALUE=URI:
SUMMARY:12. Marbacher Speeketze-Lauf des Lauftreffs Marbach e.V. /Volkslauf
DTSTART:20050318T230000Z
END:VEVENT
END:VCALENDAR
An internal server error occurred.