BEGIN:VCALENDAR
VERSION:2.0
PRODID:-//hacksw/handcal//NONSGML v1.0//EN
CALSCALE:GREGORIAN
BEGIN:VEVENT
DTEND:20040624T163000Z
UID:69ed07926d8fc
DTSTAMP:20260425T192730Z
LOCATION:1220 Wien Donaupark 
DESCRIPTION:2er/3er/4er/6er Team(gemeinsamer Start\, Kilometer werden addiert) 
URL;VALUE=URI:
SUMMARY:ABGESAGT -1. Internationaler Businessmarathon Wien 
DTSTART:20040623T230000Z
END:VEVENT
END:VCALENDAR
An internal server error occurred.