BEGIN:VCALENDAR
VERSION:2.0
PRODID:-//hacksw/handcal//NONSGML v1.0//EN
CALSCALE:GREGORIAN
BEGIN:VEVENT
DTEND:20050327T230000Z
UID:69ed93952fa8d
DTSTAMP:20260426T052453Z
LOCATION:0 Rodgau-Jügesheim
DESCRIPTION:
URL;VALUE=URI:
SUMMARY:28. Rodgauer Osterlauf /Volkslauf /amtl. vermessener Strassenlauf
DTSTART:20050327T230000Z
END:VEVENT
END:VCALENDAR
An internal server error occurred.