BEGIN:VCALENDAR
VERSION:2.0
PRODID:-//hacksw/handcal//NONSGML v1.0//EN
CALSCALE:GREGORIAN
BEGIN:VEVENT
DTEND:20050402T230000Z
UID:69ec1e19c5598
DTSTAMP:20260425T025121Z
LOCATION:0 Gießen
DESCRIPTION:
URL;VALUE=URI:
SUMMARY:35. Int. Gießener Frühjahrsvolkslauf /Volkslauf
DTSTART:20050402T230000Z
END:VEVENT
END:VCALENDAR
An internal server error occurred.