BEGIN:VCALENDAR
VERSION:2.0
PRODID:-//hacksw/handcal//NONSGML v1.0//EN
CALSCALE:GREGORIAN
BEGIN:VEVENT
DTEND:20030913T110000Z
UID:69ec23ce5a768
DTSTAMP:20260425T031542Z
LOCATION:8741 Weisskirchen
DESCRIPTION:sowie Kinderlauf
URL;VALUE=URI:
SUMMARY:3. Sagenhafter Stadtwerke Judenburg AG Firmenlauf
DTSTART:20030912T230000Z
END:VEVENT
END:VCALENDAR
An internal server error occurred.