BEGIN:VCALENDAR
VERSION:2.0
PRODID:-//hacksw/handcal//NONSGML v1.0//EN
CALSCALE:GREGORIAN
BEGIN:VEVENT
DTEND:20030614T130000Z
UID:69ed86ee10b87
DTSTAMP:20260426T043054Z
LOCATION:1020 Wien
DESCRIPTION:Kinderlauf
URL;VALUE=URI:
SUMMARY:Kinderlauf Laufen m. Spass (Österr.Frauenlauf)
DTSTART:20030613T230000Z
END:VEVENT
END:VCALENDAR
An internal server error occurred.