BEGIN:VCALENDAR
VERSION:2.0
PRODID:-//hacksw/handcal//NONSGML v1.0//EN
CALSCALE:GREGORIAN
BEGIN:VEVENT
DTEND:20030927T130000Z
UID:69ed86f96d2d4
DTSTAMP:20260426T043105Z
LOCATION:4563 Micheldorf
DESCRIPTION:zusätzliche Bewerbe:
Knirpse + Mini 800 m\, Kinder\,Schüler 800 m\,Jugend+Jogger 1600 m\, Staffel 3er Mannschaften 1600 m

URL;VALUE=URI:
SUMMARY:15. Int. Raiffeisen Sport Rankl Strassenlauf Micheldorf 
DTSTART:20030926T230000Z
END:VEVENT
END:VCALENDAR
An internal server error occurred.