BEGIN:VCALENDAR
VERSION:2.0
PRODID:-//hacksw/handcal//NONSGML v1.0//EN
CALSCALE:GREGORIAN
BEGIN:VEVENT
DTEND:20260722T230000Z
UID:69e60dd318fa0
DTSTAMP:20260420T122819Z
LOCATION:90402 Nürnberg
DESCRIPTION:Wertungen und Altersklassen nach Vorgaben des Veranstalters.

URL;VALUE=URI:
SUMMARY:B2Run Nürnberg 
DTSTART:20260722T230000Z
END:VEVENT
END:VCALENDAR
An internal server error occurred.