BEGIN:VCALENDAR
VERSION:2.0
PRODID:-//hacksw/handcal//NONSGML v1.0//EN
CALSCALE:GREGORIAN
BEGIN:VEVENT
DTEND:20260706T230000Z
UID:69e60dd5e0d57
DTSTAMP:20260420T122821Z
LOCATION:70173 Stuttgart
DESCRIPTION:Wertungen und Altersklassen nach Vorgaben des Veranstalters.

URL;VALUE=URI:
SUMMARY:B2Run Stuttgart
DTSTART:20260706T230000Z
END:VEVENT
END:VCALENDAR
An internal server error occurred.