BEGIN:VCALENDAR
VERSION:2.0
PRODID:-//hacksw/handcal//NONSGML v1.0//EN
CALSCALE:GREGORIAN
BEGIN:VEVENT
DTEND:20260629T230000Z
UID:69e5cc2280166
DTSTAMP:20260420T074802Z
LOCATION:79098 Freiburg
DESCRIPTION:Wertungen und Altersklassen nach Vorgaben des Veranstalters.

URL;VALUE=URI:
SUMMARY:B2Run Freiburg
DTSTART:20260629T230000Z
END:VEVENT
END:VCALENDAR
An internal server error occurred.